Workbook

Sheet Estoque
A1: Controle de estoque — Negócio em Rota (negocioemrota.com)
A2: Lance entradas e saídas na aba Movimentações. O saldo e o alerta de reposição são automáticos.
A4: Código | B4: Produto | C4: Unidade | D4: Custo unitário | E4: Estoque mínimo | F4: Entradas | G4: Saídas | H4: Saldo atual | I4: Valor em estoque | J4: Situação
A5: P001 | B5: Exemplo: camiseta P | C5: un | D5: 25 | E5: 10 | F5: =IF(A5="","",SUMIFS(Movimentações!$D:$D,Movimentações!$B:$B,A5,Movimentações!$C:$C,"Entrada")) | G5: =IF(A5="","",SUMIFS(Movimentações!$D:$D,Movimentações!$B:$B,A5,Movimentações!$C:$C,"Saída")) | H5: =IF(A5="","",F5-G5) | I5: =IF(A5="","",H5*D5) | J5: =IF(A5="","",IF(H5<=E5,"REPOR","OK"))
A6: P002 | B6: Exemplo: camiseta M | C6: un | D6: 25 | E6: 10 | F6: =IF(A6="","",SUMIFS(Movimentações!$D:$D,Movimentações!$B:$B,A6,Movimentações!$C:$C,"Entrada")) | G6: =IF(A6="","",SUMIFS(Movimentações!$D:$D,Movimentações!$B:$B,A6,Movimentações!$C:$C,"Saída")) | H6: =IF(A6="","",F6-G6) | I6: =IF(A6="","",H6*D6) | J6: =IF(A6="","",IF(H6<=E6,"REPOR","OK"))
F7: =IF(A7="","",SUMIFS(Movimentações!$D:$D,Movimentações!$B:$B,A7,Movimentações!$C:$C,"Entrada")) | G7: =IF(A7="","",SUMIFS(Movimentações!$D:$D,Movimentações!$B:$B,A7,Movimentações!$C:$C,"Saída")) | H7: =IF(A7="","",F7-G7) | I7: =IF(A7="","",H7*D7) | J7: =IF(A7="","",IF(H7<=E7,"REPOR","OK"))
F8: =IF(A8="","",SUMIFS(Movimentações!$D:$D,Movimentações!$B:$B,A8,Movimentações!$C:$C,"Entrada")) | G8: =IF(A8="","",SUMIFS(Movimentações!$D:$D,Movimentações!$B:$B,A8,Movimentações!$C:$C,"Saída")) | H8: =IF(A8="","",F8-G8) | I8: =IF(A8="","",H8*D8) | J8: =IF(A8="","",IF(H8<=E8,"REPOR","OK"))
F9: =IF(A9="","",SUMIFS(Movimentações!$D:$D,Movimentações!$B:$B,A9,Movimentações!$C:$C,"Entrada")) | G9: =IF(A9="","",SUMIFS(Movimentações!$D:$D,Movimentações!$B:$B,A9,Movimentações!$C:$C,"Saída")) | H9: =IF(A9="","",F9-G9) | I9: =IF(A9="","",H9*D9) | J9: =IF(A9="","",IF(H9<=E9,"REPOR","OK"))
F10: =IF(A10="","",SUMIFS(Movimentações!$D:$D,Movimentações!$B:$B,A10,Movimentações!$C:$C,"Entrada")) | G10: =IF(A10="","",SUMIFS(Movimentações!$D:$D,Movimentações!$B:$B,A10,Movimentações!$C:$C,"Saída")) | H10: =IF(A10="","",F10-G10) | I10: =IF(A10="","",H10*D10) | J10: =IF(A10="","",IF(H10<=E10,"REPOR","OK"))
F11: =IF(A11="","",SUMIFS(Movimentações!$D:$D,Movimentações!$B:$B,A11,Movimentações!$C:$C,"Entrada")) | G11: =IF(A11="","",SUMIFS(Movimentações!$D:$D,Movimentações!$B:$B,A11,Movimentações!$C:$C,"Saída")) | H11: =IF(A11="","",F11-G11) | I11: =IF(A11="","",H11*D11) | J11: =IF(A11="","",IF(H11<=E11,"REPOR","OK"))
F12: =IF(A12="","",SUMIFS(Movimentações!$D:$D,Movimentações!$B:$B,A12,Movimentações!$C:$C,"Entrada")) | G12: =IF(A12="","",SUMIFS(Movimentações!$D:$D,Movimentações!$B:$B,A12,Movimentações!$C:$C,"Saída")) | H12: =IF(A12="","",F12-G12) | I12: =IF(A12="","",H12*D12) | J12: =IF(A12="","",IF(H12<=E12,"REPOR","OK"))
F13: =IF(A13="","",SUMIFS(Movimentações!$D:$D,Movimentações!$B:$B,A13,Movimentações!$C:$C,"Entrada")) | G13: =IF(A13="","",SUMIFS(Movimentações!$D:$D,Movimentações!$B:$B,A13,Movimentações!$C:$C,"Saída")) | H13: =IF(A13="","",F13-G13) | I13: =IF(A13="","",H13*D13) | J13: =IF(A13="","",IF(H13<=E13,"REPOR","OK"))
F14: =IF(A14="","",SUMIFS(Movimentações!$D:$D,Movimentações!$B:$B,A14,Movimentações!$C:$C,"Entrada")) | G14: =IF(A14="","",SUMIFS(Movimentações!$D:$D,Movimentações!$B:$B,A14,Movimentações!$C:$C,"Saída")) | H14: =IF(A14="","",F14-G14) | I14: =IF(A14="","",H14*D14) | J14: =IF(A14="","",IF(H14<=E14,"REPOR","OK"))
F15: =IF(A15="","",SUMIFS(Movimentações!$D:$D,Movimentações!$B:$B,A15,Movimentações!$C:$C,"Entrada")) | G15: =IF(A15="","",SUMIFS(Movimentações!$D:$D,Movimentações!$B:$B,A15,Movimentações!$C:$C,"Saída")) | H15: =IF(A15="","",F15-G15) | I15: =IF(A15="","",H15*D15) | J15: =IF(A15="","",IF(H15<=E15,"REPOR","OK"))
F16: =IF(A16="","",SUMIFS(Movimentações!$D:$D,Movimentações!$B:$B,A16,Movimentações!$C:$C,"Entrada")) | G16: =IF(A16="","",SUMIFS(Movimentações!$D:$D,Movimentações!$B:$B,A16,Movimentações!$C:$C,"Saída")) | H16: =IF(A16="","",F16-G16) | I16: =IF(A16="","",H16*D16) | J16: =IF(A16="","",IF(H16<=E16,"REPOR","OK"))
F17: =IF(A17="","",SUMIFS(Movimentações!$D:$D,Movimentações!$B:$B,A17,Movimentações!$C:$C,"Entrada")) | G17: =IF(A17="","",SUMIFS(Movimentações!$D:$D,Movimentações!$B:$B,A17,Movimentações!$C:$C,"Saída")) | H17: =IF(A17="","",F17-G17) | I17: =IF(A17="","",H17*D17) | J17: =IF(A17="","",IF(H17<=E17,"REPOR","OK"))
F18: =IF(A18="","",SUMIFS(Movimentações!$D:$D,Movimentações!$B:$B,A18,Movimentações!$C:$C,"Entrada")) | G18: =IF(A18="","",SUMIFS(Movimentações!$D:$D,Movimentações!$B:$B,A18,Movimentações!$C:$C,"Saída")) | H18: =IF(A18="","",F18-G18) | I18: =IF(A18="","",H18*D18) | J18: =IF(A18="","",IF(H18<=E18,"REPOR","OK"))
... F104: =IF(A104="","",SUMIFS(Movimentações!$D:$D,Movimentações!$B:$B,A104,Movimentações!$C:$C,"Entrada")) | G104: =IF(A104="","",SUMIFS(Movimentações!$D:$D,Movimentações!$B:$B,A104,Movimentações!$C:$C,"Saída")) | H104: =IF(A104="","",F104-G104) | I104: =IF(A104="","",H104*D104) | J104: =IF(A104="","",IF(H104<=E104,"REPOR","OK"))
H106: Valor total | I106: =SUM(I5:I104)

Sheet Movimentações
A1: Data | B1: Código | C1: Tipo (Entrada/Saída) | D1: Quantidade | E1: Observação
A2: 46389 | B2: P001 | C2: Entrada | D2: 30 | E2: Compra fornecedor
A3: 46392 | B3: P001 | C3: Saída | D3: 22 | E3: Vendas da semana
A4: 46389 | B4: P002 | C4: Entrada | D4: 20 | E4: Compra fornecedor
